BEGIN:VCALENDAR
VERSION:2.0
PRODID:Imitheme.com 
BEGIN:VEVENT
UID:20260419T2013511808493344
DTSTAMP;TZID=UTC:2026-04-19 20:13:51
DTSTART;TZID=America/Los_Angeles:20260308T000000
DTEND;TZID=America/Los_Angeles:20260308T000000
SUMMARY:Christian Education
LOCATION:
DESCRIPTION:
URL:https://www.stmichaelsdenver.org/eventer/christian-education/
END:VEVENT
END:VCALENDAR
